BEGIN:VCALENDAR
VERSION:2.0
PRODID:-//Quest4Action - ECPv6.13.2.1//NONSGML v1.0//EN
CALSCALE:GREGORIAN
METHOD:PUBLISH
X-WR-CALNAME:Quest4Action
X-ORIGINAL-URL:https://quest4action.org
X-WR-CALDESC:Events for Quest4Action
REFRESH-INTERVAL;VALUE=DURATION:PT1H
X-Robots-Tag:noindex
X-PUBLISHED-TTL:PT1H
BEGIN:VTIMEZONE
TZID:Asia/Kolkata
BEGIN:STANDARD
TZOFFSETFROM:+0530
TZOFFSETTO:+0530
TZNAME:IST
DTSTART:20230101T000000
END:STANDARD
END:VTIMEZONE
BEGIN:VEVENT
DTSTART;VALUE=DATE:20241211
DTEND;VALUE=DATE:20241213
DTSTAMP:20260423T201947
CREATED:20241020T123119Z
LAST-MODIFIED:20241020T123119Z
UID:9316-1733911200-1733997599@quest4action.org
SUMMARY:International Mountain Day
DESCRIPTION:Led by the United Nations Environment Programme (UNEP) and held annually on 5 June since 1973\, World Environment Day is the largest global platform for environmental public outreach and is celebrated by millions of people across the world.  The Kingdom of Saudi Arabia will host the 2024 World Environment Day global celebrations\, with the theme focusing on land restoration\, desertification\, and drought resilience. The 2024 day is focusing on land restoration\, desertification and drought resilience. As a nation facing degradation\, desertification and drought\, the Kingdom of Saudi Arabia is deeply invested in delivering solutions. The Kingdom is acting nationally and regionally through the Saudi Green Initiative and the Middle East Green Initiative.
URL:https://quest4action.org/event/international-mountain-day/
LOCATION:Worldwide
ATTACH;FMTTYPE=image/jpeg:https://quest4action.org/wp-content/uploads/2024/10/nathan-dumlao-q3YZ4g7j9yc-unsplash-scaled.jpg
END:VEVENT
BEGIN:VEVENT
DTSTART;VALUE=DATE:20241013
DTEND;VALUE=DATE:20241015
DTSTAMP:20260423T201947
CREATED:20241020T123212Z
LAST-MODIFIED:20241020T123212Z
UID:9310-1728813600-1728899999@quest4action.org
SUMMARY:International Day for Disaster Risk Reduction
DESCRIPTION:Led by the United Nations Environment Programme (UNEP) and held annually on 5 June since 1973\, World Environment Day is the largest global platform for environmental public outreach and is celebrated by millions of people across the world.  The Kingdom of Saudi Arabia will host the 2024 World Environment Day global celebrations\, with the theme focusing on land restoration\, desertification\, and drought resilience. The 2024 day is focusing on land restoration\, desertification and drought resilience. As a nation facing degradation\, desertification and drought\, the Kingdom of Saudi Arabia is deeply invested in delivering solutions. The Kingdom is acting nationally and regionally through the Saudi Green Initiative and the Middle East Green Initiative.
URL:https://quest4action.org/event/international-day-for-disaster-risk-reduction/
LOCATION:Worldwide
ATTACH;FMTTYPE=image/jpeg:https://quest4action.org/wp-content/uploads/2024/10/image-25-1.jpeg
END:VEVENT
BEGIN:VEVENT
DTSTART;VALUE=DATE:20240605
DTEND;VALUE=DATE:20240607
DTSTAMP:20260423T201947
CREATED:20241020T123223Z
LAST-MODIFIED:20241020T123223Z
UID:9307-1717581600-1717667999@quest4action.org
SUMMARY:WORLD CLEANUP DAY
DESCRIPTION:Led by the United Nations Environment Programme (UNEP) and held annually on 5 June since 1973\, World Environment Day is the largest global platform for environmental public outreach and is celebrated by millions of people across the world.  The Kingdom of Saudi Arabia will host the 2024 World Environment Day global celebrations\, with the theme focusing on land restoration\, desertification\, and drought resilience. The 2024 day is focusing on land restoration\, desertification and drought resilience. As a nation facing degradation\, desertification and drought\, the Kingdom of Saudi Arabia is deeply invested in delivering solutions. The Kingdom is acting nationally and regionally through the Saudi Green Initiative and the Middle East Green Initiative.
URL:https://quest4action.org/event/world-cleanup-day-2/
LOCATION:Worldwide
ATTACH;FMTTYPE=image/png:https://quest4action.org/wp-content/uploads/2024/01/Untitled-design-6.png
END:VEVENT
BEGIN:VEVENT
DTSTART;VALUE=DATE:20240605
DTEND;VALUE=DATE:20240607
DTSTAMP:20260423T201947
CREATED:20240823T090240Z
LAST-MODIFIED:20240823T090240Z
UID:9280-1717581600-1717667999@quest4action.org
SUMMARY:WORLD CLEANUP DAY
DESCRIPTION:Led by the United Nations Environment Programme (UNEP) and held annually on 5 June since 1973\, World Environment Day is the largest global platform for environmental public outreach and is celebrated by millions of people across the world.  The Kingdom of Saudi Arabia will host the 2024 World Environment Day global celebrations\, with the theme focusing on land restoration\, desertification\, and drought resilience. The 2024 day is focusing on land restoration\, desertification and drought resilience. As a nation facing degradation\, desertification and drought\, the Kingdom of Saudi Arabia is deeply invested in delivering solutions. The Kingdom is acting nationally and regionally through the Saudi Green Initiative and the Middle East Green Initiative.
URL:https://quest4action.org/event/world-cleanup-day/
LOCATION:Worldwide
ATTACH;FMTTYPE=image/png:https://quest4action.org/wp-content/uploads/2024/01/Untitled-design-6.png
END:VEVENT
BEGIN:VEVENT
DTSTART;VALUE=DATE:20240605
DTEND;VALUE=DATE:20240607
DTSTAMP:20260423T201947
CREATED:20240116T184004Z
LAST-MODIFIED:20240116T184004Z
UID:8316-1717581600-1717667999@quest4action.org
SUMMARY:WORLD ENVIRONMENT DAY
DESCRIPTION:Led by the United Nations Environment Programme (UNEP) and held annually on 5 June since 1973\, World Environment Day is the largest global platform for environmental public outreach and is celebrated by millions of people across the world.  The Kingdom of Saudi Arabia will host the 2024 World Environment Day global celebrations\, with the theme focusing on land restoration\, desertification\, and drought resilience. The 2024 day is focusing on land restoration\, desertification and drought resilience. As a nation facing degradation\, desertification and drought\, the Kingdom of Saudi Arabia is deeply invested in delivering solutions. The Kingdom is acting nationally and regionally through the Saudi Green Initiative and the Middle East Green Initiative.
URL:https://quest4action.org/event/world-environment-day/
LOCATION:Worldwide
ATTACH;FMTTYPE=image/png:https://quest4action.org/wp-content/uploads/2024/01/Untitled-design-6.png
END:VEVENT
BEGIN:VEVENT
DTSTART;VALUE=DATE:20240522
DTEND;VALUE=DATE:20240524
DTSTAMP:20260423T201947
CREATED:20240116T182548Z
LAST-MODIFIED:20240116T182548Z
UID:8312-1716372000-1716458399@quest4action.org
SUMMARY:INTERNATIONAL DAY FOR BIOLOGICAL DIVERSITY
DESCRIPTION:Led by the United Nations Environment Programme (UNEP) and held annually on 5 June since 1973\, World Environment Day is the largest global platform for environmental public outreach and is celebrated by millions of people across the world.  The Kingdom of Saudi Arabia will host the 2024 World Environment Day global celebrations\, with the theme focusing on land restoration\, desertification\, and drought resilience. The 2024 day is focusing on land restoration\, desertification and drought resilience. As a nation facing degradation\, desertification and drought\, the Kingdom of Saudi Arabia is deeply invested in delivering solutions. The Kingdom is acting nationally and regionally through the Saudi Green Initiative and the Middle East Green Initiative.
URL:https://quest4action.org/event/international-day-for-biological-diversity/
LOCATION:Worldwide
ATTACH;FMTTYPE=image/png:https://quest4action.org/wp-content/uploads/2024/01/Untitled-design-5.png
END:VEVENT
BEGIN:VEVENT
DTSTART;VALUE=DATE:20240422
DTEND;VALUE=DATE:20240424
DTSTAMP:20260423T201947
CREATED:20240116T151035Z
LAST-MODIFIED:20240116T151035Z
UID:8308-1713780000-1713866399@quest4action.org
SUMMARY:INTERNATIONAL MOTHER EARTH DAY
DESCRIPTION:Led by the United Nations Environment Programme (UNEP) and held annually on 5 June since 1973\, World Environment Day is the largest global platform for environmental public outreach and is celebrated by millions of people across the world.  The Kingdom of Saudi Arabia will host the 2024 World Environment Day global celebrations\, with the theme focusing on land restoration\, desertification\, and drought resilience. The 2024 day is focusing on land restoration\, desertification and drought resilience. As a nation facing degradation\, desertification and drought\, the Kingdom of Saudi Arabia is deeply invested in delivering solutions. The Kingdom is acting nationally and regionally through the Saudi Green Initiative and the Middle East Green Initiative.
URL:https://quest4action.org/event/international-mother-earth-day/
LOCATION:Worldwide
ATTACH;FMTTYPE=image/png:https://quest4action.org/wp-content/uploads/2024/01/Q4A-Images-61.png
END:VEVENT
BEGIN:VEVENT
DTSTART;VALUE=DATE:20240330
DTEND;VALUE=DATE:20240401
DTSTAMP:20260423T201948
CREATED:20240116T145328Z
LAST-MODIFIED:20240116T145855Z
UID:8302-1711792800-1711879199@quest4action.org
SUMMARY:INTERNATIONAL DAY OF ZERO WASTE
DESCRIPTION:Led by the United Nations Environment Programme (UNEP) and held annually on 5 June since 1973\, World Environment Day is the largest global platform for environmental public outreach and is celebrated by millions of people across the world.  The Kingdom of Saudi Arabia will host the 2024 World Environment Day global celebrations\, with the theme focusing on land restoration\, desertification\, and drought resilience. The 2024 day is focusing on land restoration\, desertification and drought resilience. As a nation facing degradation\, desertification and drought\, the Kingdom of Saudi Arabia is deeply invested in delivering solutions. The Kingdom is acting nationally and regionally through the Saudi Green Initiative and the Middle East Green Initiative.
URL:https://quest4action.org/event/international-day-of-zero-waste/
LOCATION:Worldwide
ATTACH;FMTTYPE=image/png:https://quest4action.org/wp-content/uploads/2024/01/Q4A-Images-60.png
END:VEVENT
BEGIN:VEVENT
DTSTART;VALUE=DATE:20240322
DTEND;VALUE=DATE:20240324
DTSTAMP:20260423T201948
CREATED:20240116T141050Z
LAST-MODIFIED:20240116T141050Z
UID:8297-1711101600-1711187999@quest4action.org
SUMMARY:WORLD WATER DAY
DESCRIPTION:Led by the United Nations Environment Programme (UNEP) and held annually on 5 June since 1973\, World Environment Day is the largest global platform for environmental public outreach and is celebrated by millions of people across the world.  The Kingdom of Saudi Arabia will host the 2024 World Environment Day global celebrations\, with the theme focusing on land restoration\, desertification\, and drought resilience. The 2024 day is focusing on land restoration\, desertification and drought resilience. As a nation facing degradation\, desertification and drought\, the Kingdom of Saudi Arabia is deeply invested in delivering solutions. The Kingdom is acting nationally and regionally through the Saudi Green Initiative and the Middle East Green Initiative.
URL:https://quest4action.org/event/world-water-day/
LOCATION:Worldwide
ATTACH;FMTTYPE=image/jpeg:https://quest4action.org/wp-content/uploads/2024/01/wwd2023_webbanners-01.jpg
END:VEVENT
BEGIN:VEVENT
DTSTART;VALUE=DATE:20240321
DTEND;VALUE=DATE:20240323
DTSTAMP:20260423T201948
CREATED:20240116T135619Z
LAST-MODIFIED:20240116T140915Z
UID:8294-1711015200-1711101599@quest4action.org
SUMMARY:INTERNATIONAL DAY OF FORESTS
DESCRIPTION:Led by the United Nations Environment Programme (UNEP) and held annually on 5 June since 1973\, World Environment Day is the largest global platform for environmental public outreach and is celebrated by millions of people across the world.  The Kingdom of Saudi Arabia will host the 2024 World Environment Day global celebrations\, with the theme focusing on land restoration\, desertification\, and drought resilience. The 2024 day is focusing on land restoration\, desertification and drought resilience. As a nation facing degradation\, desertification and drought\, the Kingdom of Saudi Arabia is deeply invested in delivering solutions. The Kingdom is acting nationally and regionally through the Saudi Green Initiative and the Middle East Green Initiative.
URL:https://quest4action.org/event/international-day-of-forests/
LOCATION:Worldwide
ATTACH;FMTTYPE=image/png:https://quest4action.org/wp-content/uploads/2024/01/Q4A-Images-59.png
END:VEVENT
BEGIN:VEVENT
DTSTART;VALUE=DATE:20240305
DTEND;VALUE=DATE:20240309
DTSTAMP:20260423T201948
CREATED:20240116T134323Z
LAST-MODIFIED:20240116T134443Z
UID:8289-1709632800-1709891999@quest4action.org
SUMMARY:MOSIP CONNECT 2024
DESCRIPTION:Led by the United Nations Environment Programme (UNEP) and held annually on 5 June since 1973\, World Environment Day is the largest global platform for environmental public outreach and is celebrated by millions of people across the world.  The Kingdom of Saudi Arabia will host the 2024 World Environment Day global celebrations\, with the theme focusing on land restoration\, desertification\, and drought resilience. The 2024 day is focusing on land restoration\, desertification and drought resilience. As a nation facing degradation\, desertification and drought\, the Kingdom of Saudi Arabia is deeply invested in delivering solutions. The Kingdom is acting nationally and regionally through the Saudi Green Initiative and the Middle East Green Initiative.
URL:https://quest4action.org/event/mosip-connect-2024/
LOCATION:Addis Ababa\, Ethiopian Skylight Hotel\, Addis Ababa\, Ethiopia
ATTACH;FMTTYPE=image/jpeg:https://quest4action.org/wp-content/uploads/2024/01/mosip-connect-again.jpg
END:VEVENT
BEGIN:VEVENT
DTSTART;VALUE=DATE:20240217
DTEND;VALUE=DATE:20240220
DTSTAMP:20260423T201948
CREATED:20240126T052531Z
LAST-MODIFIED:20240126T054317Z
UID:8444-1708164000-1708336799@quest4action.org
SUMMARY:GLOBAL YOUTH ENVIRONMENT ASSEMBLY 2024
DESCRIPTION:Led by the United Nations Environment Programme (UNEP) and held annually on 5 June since 1973\, World Environment Day is the largest global platform for environmental public outreach and is celebrated by millions of people across the world.  The Kingdom of Saudi Arabia will host the 2024 World Environment Day global celebrations\, with the theme focusing on land restoration\, desertification\, and drought resilience. The 2024 day is focusing on land restoration\, desertification and drought resilience. As a nation facing degradation\, desertification and drought\, the Kingdom of Saudi Arabia is deeply invested in delivering solutions. The Kingdom is acting nationally and regionally through the Saudi Green Initiative and the Middle East Green Initiative.
URL:https://quest4action.org/event/global-youth-environment-assembly-2024/
LOCATION:United Nations Office\, Nairobi
ATTACH;FMTTYPE=image/png:https://quest4action.org/wp-content/uploads/2024/01/Q4A-Images-89.png
END:VEVENT
BEGIN:VEVENT
DTSTART;VALUE=DATE:20240202
DTEND;VALUE=DATE:20240204
DTSTAMP:20260423T201948
CREATED:20240116T133216Z
LAST-MODIFIED:20240116T133216Z
UID:8286-1706868000-1706954399@quest4action.org
SUMMARY:WORLD WETLANDS DAY 2024
DESCRIPTION:Led by the United Nations Environment Programme (UNEP) and held annually on 5 June since 1973\, World Environment Day is the largest global platform for environmental public outreach and is celebrated by millions of people across the world.  The Kingdom of Saudi Arabia will host the 2024 World Environment Day global celebrations\, with the theme focusing on land restoration\, desertification\, and drought resilience. The 2024 day is focusing on land restoration\, desertification and drought resilience. As a nation facing degradation\, desertification and drought\, the Kingdom of Saudi Arabia is deeply invested in delivering solutions. The Kingdom is acting nationally and regionally through the Saudi Green Initiative and the Middle East Green Initiative.
URL:https://quest4action.org/event/world-wetlands-day-2024/
LOCATION:Worldwide
ATTACH;FMTTYPE=image/jpeg:https://quest4action.org/wp-content/uploads/2024/01/Carey-200903080704-7DE47A14C8F7E7EA88E22287D9E9E991-scaled.jpg
END:VEVENT
BEGIN:VEVENT
DTSTART;VALUE=DATE:20240126
DTEND;VALUE=DATE:20240129
DTSTAMP:20260423T201948
CREATED:20240115T193926Z
LAST-MODIFIED:20240116T120606Z
UID:8089-1706263200-1706435999@quest4action.org
SUMMARY:INTERNATIONAL DAY OF CLEAN ENERGY- 2024
DESCRIPTION:Led by the United Nations Environment Programme (UNEP) and held annually on 5 June since 1973\, World Environment Day is the largest global platform for environmental public outreach and is celebrated by millions of people across the world.  The Kingdom of Saudi Arabia will host the 2024 World Environment Day global celebrations\, with the theme focusing on land restoration\, desertification\, and drought resilience. The 2024 day is focusing on land restoration\, desertification and drought resilience. As a nation facing degradation\, desertification and drought\, the Kingdom of Saudi Arabia is deeply invested in delivering solutions. The Kingdom is acting nationally and regionally through the Saudi Green Initiative and the Middle East Green Initiative.
URL:https://quest4action.org/event/international-day-of-clean-energy-2024/
LOCATION:Worldwide
ATTACH;FMTTYPE=image/png:https://quest4action.org/wp-content/uploads/2024/01/Q4A-Images-51.png
END:VEVENT
BEGIN:VEVENT
DTSTART;VALUE=DATE:20240115
DTEND;VALUE=DATE:20240121
DTSTAMP:20260423T201948
CREATED:20240115T114725Z
LAST-MODIFIED:20240116T131439Z
UID:8063-1705312800-1705744799@quest4action.org
SUMMARY:WORLD ECONOMIC FORUM: ANNUAL MEETING - 2024
DESCRIPTION:Led by the United Nations Environment Programme (UNEP) and held annually on 5 June since 1973\, World Environment Day is the largest global platform for environmental public outreach and is celebrated by millions of people across the world.  The Kingdom of Saudi Arabia will host the 2024 World Environment Day global celebrations\, with the theme focusing on land restoration\, desertification\, and drought resilience. The 2024 day is focusing on land restoration\, desertification and drought resilience. As a nation facing degradation\, desertification and drought\, the Kingdom of Saudi Arabia is deeply invested in delivering solutions. The Kingdom is acting nationally and regionally through the Saudi Green Initiative and the Middle East Green Initiative.
URL:https://quest4action.org/event/wef-annual-meeting-2024/
LOCATION:Davos\, Switzerland
ATTACH;FMTTYPE=image/webp:https://quest4action.org/wp-content/uploads/2024/01/responsive_big_webp_EyITucXJ7GclpQd6gwGJ-5TqhsMi092q0Mu0IWfJSj8-1.webp
END:VEVENT
BEGIN:VEVENT
DTSTART;VALUE=DATE:20231101
DTEND;VALUE=DATE:20231105
DTSTAMP:20260423T201948
CREATED:20231031T223807Z
LAST-MODIFIED:20240115T132749Z
UID:7198-1698832800-1699091999@quest4action.org
SUMMARY:RIDGE 2 REEF: 10th South and central ASIAN BIOSPHERE RESERVE NETWORK MEETING
DESCRIPTION:Led by the United Nations Environment Programme (UNEP) and held annually on 5 June since 1973\, World Environment Day is the largest global platform for environmental public outreach and is celebrated by millions of people across the world.  The Kingdom of Saudi Arabia will host the 2024 World Environment Day global celebrations\, with the theme focusing on land restoration\, desertification\, and drought resilience. The 2024 day is focusing on land restoration\, desertification and drought resilience. As a nation facing degradation\, desertification and drought\, the Kingdom of Saudi Arabia is deeply invested in delivering solutions. The Kingdom is acting nationally and regionally through the Saudi Green Initiative and the Middle East Green Initiative.
URL:https://quest4action.org/event/ridge-2-reef-10th-south-and-central-asian-biosphere-reserve-network-meeting/
LOCATION:Chennai
ATTACH;FMTTYPE=image/png:https://quest4action.org/wp-content/uploads/2023/11/water.png
END:VEVENT
END:VCALENDAR